{
 "currentVersion": 11.3,
 "serviceDescription": "True Ortho",
 "name": "Hosted/FOSSACCIO_B_True_Ortho",
 "description": "",
 "extent": {
  "xmin": 229244.1855591425,
  "ymin": 4683053.723731419,
  "xmax": 229752.2155579218,
  "ymax": 4684149.163416287,
  "spatialReference": {
   "wkid": 32633,
   "latestWkid": 32633,
   "vcsWkid": 5773,
   "latestVcsWkid": 5773
  }
 },
 "initialExtent": {
  "xmin": 229244.1855591425,
  "ymin": 4683053.723731419,
  "xmax": 229752.2155579218,
  "ymax": 4684149.163416287,
  "spatialReference": {
   "wkid": 32633,
   "latestWkid": 32633,
   "vcsWkid": 5773,
   "latestVcsWkid": 5773
  }
 },
 "fullExtent": {
  "xmin": 229244.1855591425,
  "ymin": 4683053.723731419,
  "xmax": 229752.2155579218,
  "ymax": 4684149.163416287,
  "spatialReference": {
   "wkid": 32633,
   "latestWkid": 32633,
   "vcsWkid": 5773,
   "latestVcsWkid": 5773
  }
 },
 "sortableFields": "",
 "heightModelInfo": {
  "heightModel": "gravity_related_height",
  "vertCRS": "EGM96_Geoid",
  "heightUnit": "meter"
 },
 "bandCount": 3,
 "pixelType": "U8",
 "minValues": [
  1,
  1,
  1
 ],
 "maxValues": [
  254,
  254,
  254
 ],
 "meanValues": [
  151.38675638561,
  138.75601173477,
  98.674291260882
 ],
 "stdvValues": [
  52.018039705007,
  43.599956146054,
  42.194039953586
 ],
 "hasMultidimensions": false,
 "pixelSizeX": 0.015875937461853028,
 "pixelSizeY": 0.015875937461853028,
 "meanPixelSize": 0.015875937461853028,
 "datasetFormat": "TIFF",
 "uncompressedSize": 6624000000,
 "blockWidth": 256,
 "blockHeight": 256,
 "compressionType": "LZW",
 "bandNames": [
  "Band_1",
  "Band_2",
  "Band_3"
 ],
 "allowCopy": true,
 "allowAnalysis": true,
 "itemAccess": false,
 "inspectionCapabilities": "",
 "noDataValue": 0,
 "noDataValues": [
  0,
  0,
  0
 ],
 "minPixelSize": 0,
 "maxPixelSize": 0,
 "copyrightText": "",
 "serviceDataType": "esriImageServiceDataTypeRGB",
 "serviceSourceType": "esriImageServiceSourceTypeDataset",
 "objectIdField": "",
 "fields": [],
 "capabilities": "Image, Metadata, Mensuration",
 "defaultMosaicMethod": "Center",
 "allowedMosaicMethods": "",
 "sortField": "",
 "sortValue": null,
 "sortAscending": true,
 "mosaicOperator": "First",
 "defaultCompressionQuality": 75,
 "defaultResamplingMethod": "Bilinear",
 "maxImageHeight": 4100,
 "maxImageWidth": 15000,
 "allowRasterFunction": true,
 "rasterFunctionInfos": [
  {
   "name": "None",
   "description": "",
   "help": ""
  }
 ],
 "rasterTypeInfos": [
  {
   "name": "Raster Dataset",
   "description": "Supports all ArcGIS Raster Datasets",
   "help": ""
  }
 ],
 "mensurationCapabilities": "Basic",
 "hasHistograms": false,
 "hasColormap": false,
 "hasRasterAttributeTable": false,
 "minScale": 0,
 "maxScale": 0,
 "exportTilesAllowed": false,
 "supportsStatistics": false,
 "supportsAdvancedQueries": false,
 "editFieldsInfo": null,
 "ownershipBasedAccessControlForRasters": null,
 "allowComputeTiePoints": false,
 "useStandardizedQueries": true,
 "advancedQueryCapabilities": {
  "useStandardizedQueries": true,
  "supportsStatistics": false,
  "supportsOrderBy": false,
  "supportsDistinct": false,
  "supportsPagination": false
 },
 "spatialReference": {
  "wkid": 32633,
  "latestWkid": 32633,
  "vcsWkid": 5773,
  "latestVcsWkid": 5773
 }
}
