{
 "currentVersion": 11.3,
 "serviceDescription": "True Ortho",
 "name": "Hosted/FOSSO_3B_True_Ortho",
 "description": "",
 "extent": {
  "xmin": 229829.0953598863,
  "ymin": 4682935.88688058,
  "xmax": 230306.69193085493,
  "ymax": 4683160.638208095,
  "spatialReference": {
   "wkid": 32633,
   "latestWkid": 32633,
   "vcsWkid": 5773,
   "latestVcsWkid": 5773
  }
 },
 "initialExtent": {
  "xmin": 229829.0953598863,
  "ymin": 4682935.88688058,
  "xmax": 230306.69193085493,
  "ymax": 4683160.638208095,
  "spatialReference": {
   "wkid": 32633,
   "latestWkid": 32633,
   "vcsWkid": 5773,
   "latestVcsWkid": 5773
  }
 },
 "fullExtent": {
  "xmin": 229829.0953598863,
  "ymin": 4682935.88688058,
  "xmax": 230306.69193085493,
  "ymax": 4683160.638208095,
  "spatialReference": {
   "wkid": 32633,
   "latestWkid": 32633,
   "vcsWkid": 5773,
   "latestVcsWkid": 5773
  }
 },
 "sortableFields": "",
 "heightModelInfo": {
  "heightModel": "gravity_related_height",
  "vertCRS": "EGM96_Geoid",
  "heightUnit": "meter"
 },
 "bandCount": 3,
 "pixelType": "U8",
 "minValues": [
  1,
  1,
  1
 ],
 "maxValues": [
  254,
  254,
  254
 ],
 "meanValues": [
  157.09320654493,
  140.00269599274,
  100.82659664703
 ],
 "stdvValues": [
  52.193720373433,
  41.854184302864,
  39.922686996211
 ],
 "hasMultidimensions": false,
 "pixelSizeX": 0.014046957969665527,
 "pixelSizeY": 0.014046957969665527,
 "meanPixelSize": 0.014046957969665527,
 "datasetFormat": "TIFF",
 "uncompressedSize": 1632000000,
 "blockWidth": 256,
 "blockHeight": 256,
 "compressionType": "LZW",
 "bandNames": [
  "Band_1",
  "Band_2",
  "Band_3"
 ],
 "allowCopy": true,
 "allowAnalysis": true,
 "itemAccess": false,
 "inspectionCapabilities": "",
 "noDataValue": 0,
 "noDataValues": [
  0,
  0,
  0
 ],
 "minPixelSize": 0,
 "maxPixelSize": 0,
 "copyrightText": "",
 "serviceDataType": "esriImageServiceDataTypeRGB",
 "serviceSourceType": "esriImageServiceSourceTypeDataset",
 "objectIdField": "",
 "fields": [],
 "capabilities": "Image, Metadata, Mensuration",
 "defaultMosaicMethod": "Center",
 "allowedMosaicMethods": "",
 "sortField": "",
 "sortValue": null,
 "sortAscending": true,
 "mosaicOperator": "First",
 "defaultCompressionQuality": 75,
 "defaultResamplingMethod": "Bilinear",
 "maxImageHeight": 4100,
 "maxImageWidth": 15000,
 "allowRasterFunction": true,
 "rasterFunctionInfos": [
  {
   "name": "None",
   "description": "",
   "help": ""
  }
 ],
 "rasterTypeInfos": [
  {
   "name": "Raster Dataset",
   "description": "Supports all ArcGIS Raster Datasets",
   "help": ""
  }
 ],
 "mensurationCapabilities": "Basic",
 "hasHistograms": false,
 "hasColormap": false,
 "hasRasterAttributeTable": false,
 "minScale": 0,
 "maxScale": 0,
 "exportTilesAllowed": false,
 "supportsStatistics": false,
 "supportsAdvancedQueries": false,
 "editFieldsInfo": null,
 "ownershipBasedAccessControlForRasters": null,
 "allowComputeTiePoints": false,
 "useStandardizedQueries": true,
 "advancedQueryCapabilities": {
  "useStandardizedQueries": true,
  "supportsStatistics": false,
  "supportsOrderBy": false,
  "supportsDistinct": false,
  "supportsPagination": false
 },
 "spatialReference": {
  "wkid": 32633,
  "latestWkid": 32633,
  "vcsWkid": 5773,
  "latestVcsWkid": 5773
 }
}
