{
 "currentVersion": 11.3,
 "serviceDescription": "True Ortho",
 "name": "Hosted/MARTA_1_True_Ortho",
 "description": "",
 "extent": {
  "xmin": 230546.73725655078,
  "ymin": 4682701.144978391,
  "xmax": 231235.49973061084,
  "ymax": 4683265.93020712,
  "spatialReference": {
   "wkid": 32633,
   "latestWkid": 32633,
   "vcsWkid": 5773,
   "latestVcsWkid": 5773
  }
 },
 "initialExtent": {
  "xmin": 230546.73725655078,
  "ymin": 4682701.144978391,
  "xmax": 231235.49973061084,
  "ymax": 4683265.93020712,
  "spatialReference": {
   "wkid": 32633,
   "latestWkid": 32633,
   "vcsWkid": 5773,
   "latestVcsWkid": 5773
  }
 },
 "fullExtent": {
  "xmin": 230546.73725655078,
  "ymin": 4682701.144978391,
  "xmax": 231235.49973061084,
  "ymax": 4683265.93020712,
  "spatialReference": {
   "wkid": 32633,
   "latestWkid": 32633,
   "vcsWkid": 5773,
   "latestVcsWkid": 5773
  }
 },
 "sortableFields": "",
 "heightModelInfo": {
  "heightModel": "gravity_related_height",
  "vertCRS": "EGM96_Geoid",
  "heightUnit": "meter"
 },
 "bandCount": 3,
 "pixelType": "U8",
 "minValues": [
  1,
  1,
  1
 ],
 "maxValues": [
  254,
  254,
  254
 ],
 "meanValues": [
  122.51722939489,
  132.03993367455,
  92.595293639058
 ],
 "stdvValues": [
  53.681536010227,
  43.276546477672,
  40.94678621823
 ],
 "hasMultidimensions": false,
 "pixelSizeX": 0.013775249481201172,
 "pixelSizeY": 0.013775249481201172,
 "meanPixelSize": 0.013775249481201172,
 "datasetFormat": "TIFF",
 "uncompressedSize": 6150000000,
 "blockWidth": 256,
 "blockHeight": 256,
 "compressionType": "LZW",
 "bandNames": [
  "Band_1",
  "Band_2",
  "Band_3"
 ],
 "allowCopy": true,
 "allowAnalysis": true,
 "itemAccess": false,
 "inspectionCapabilities": "",
 "noDataValue": 0,
 "noDataValues": [
  0,
  0,
  0
 ],
 "minPixelSize": 0,
 "maxPixelSize": 0,
 "copyrightText": "",
 "serviceDataType": "esriImageServiceDataTypeRGB",
 "serviceSourceType": "esriImageServiceSourceTypeDataset",
 "objectIdField": "",
 "fields": [],
 "capabilities": "Image, Metadata, Mensuration",
 "defaultMosaicMethod": "Center",
 "allowedMosaicMethods": "",
 "sortField": "",
 "sortValue": null,
 "sortAscending": true,
 "mosaicOperator": "First",
 "defaultCompressionQuality": 75,
 "defaultResamplingMethod": "Bilinear",
 "maxImageHeight": 4100,
 "maxImageWidth": 15000,
 "allowRasterFunction": true,
 "rasterFunctionInfos": [
  {
   "name": "None",
   "description": "",
   "help": ""
  }
 ],
 "rasterTypeInfos": [
  {
   "name": "Raster Dataset",
   "description": "Supports all ArcGIS Raster Datasets",
   "help": ""
  }
 ],
 "mensurationCapabilities": "Basic",
 "hasHistograms": false,
 "hasColormap": false,
 "hasRasterAttributeTable": false,
 "minScale": 0,
 "maxScale": 0,
 "exportTilesAllowed": false,
 "supportsStatistics": false,
 "supportsAdvancedQueries": false,
 "editFieldsInfo": null,
 "ownershipBasedAccessControlForRasters": null,
 "allowComputeTiePoints": false,
 "useStandardizedQueries": true,
 "advancedQueryCapabilities": {
  "useStandardizedQueries": true,
  "supportsStatistics": false,
  "supportsOrderBy": false,
  "supportsDistinct": false,
  "supportsPagination": false
 },
 "spatialReference": {
  "wkid": 32633,
  "latestWkid": 32633,
  "vcsWkid": 5773,
  "latestVcsWkid": 5773
 }
}
