{
 "currentVersion": 11.3,
 "serviceDescription": "True Ortho",
 "name": "Hosted/SCOLO_GIARDINI_2_True_Ortho",
 "description": "",
 "extent": {
  "xmin": 228128.7200598402,
  "ymin": 4680196.830446005,
  "xmax": 229487.9944414778,
  "ymax": 4680797.029523611,
  "spatialReference": {
   "wkid": 32633,
   "latestWkid": 32633,
   "vcsWkid": 5773,
   "latestVcsWkid": 5773
  }
 },
 "initialExtent": {
  "xmin": 228128.7200598402,
  "ymin": 4680196.830446005,
  "xmax": 229487.9944414778,
  "ymax": 4680797.029523611,
  "spatialReference": {
   "wkid": 32633,
   "latestWkid": 32633,
   "vcsWkid": 5773,
   "latestVcsWkid": 5773
  }
 },
 "fullExtent": {
  "xmin": 228128.7200598402,
  "ymin": 4680196.830446005,
  "xmax": 229487.9944414778,
  "ymax": 4680797.029523611,
  "spatialReference": {
   "wkid": 32633,
   "latestWkid": 32633,
   "vcsWkid": 5773,
   "latestVcsWkid": 5773
  }
 },
 "sortableFields": "",
 "heightModelInfo": {
  "heightModel": "gravity_related_height",
  "vertCRS": "EGM96_Geoid",
  "heightUnit": "meter"
 },
 "bandCount": 3,
 "pixelType": "U8",
 "minValues": [
  1,
  1,
  1
 ],
 "maxValues": [
  254,
  254,
  254
 ],
 "meanValues": [
  132.74351156973,
  137.70770487704,
  98.824872615593
 ],
 "stdvValues": [
  50.406915038515,
  43.021693022858,
  45.254849395663
 ],
 "hasMultidimensions": false,
 "pixelSizeX": 0.01765291404724121,
 "pixelSizeY": 0.01765291404724121,
 "meanPixelSize": 0.01765291404724121,
 "datasetFormat": "TIFF",
 "uncompressedSize": 7854000000,
 "blockWidth": 256,
 "blockHeight": 256,
 "compressionType": "LZW",
 "bandNames": [
  "Band_1",
  "Band_2",
  "Band_3"
 ],
 "allowCopy": true,
 "allowAnalysis": true,
 "itemAccess": false,
 "inspectionCapabilities": "",
 "noDataValue": 0,
 "noDataValues": [
  0,
  0,
  0
 ],
 "minPixelSize": 0,
 "maxPixelSize": 0,
 "copyrightText": "",
 "serviceDataType": "esriImageServiceDataTypeRGB",
 "serviceSourceType": "esriImageServiceSourceTypeDataset",
 "objectIdField": "",
 "fields": [],
 "capabilities": "Image, Metadata, Mensuration",
 "defaultMosaicMethod": "Center",
 "allowedMosaicMethods": "",
 "sortField": "",
 "sortValue": null,
 "sortAscending": true,
 "mosaicOperator": "First",
 "defaultCompressionQuality": 75,
 "defaultResamplingMethod": "Bilinear",
 "maxImageHeight": 4100,
 "maxImageWidth": 15000,
 "allowRasterFunction": true,
 "rasterFunctionInfos": [
  {
   "name": "None",
   "description": "",
   "help": ""
  }
 ],
 "rasterTypeInfos": [
  {
   "name": "Raster Dataset",
   "description": "Supports all ArcGIS Raster Datasets",
   "help": ""
  }
 ],
 "mensurationCapabilities": "Basic",
 "hasHistograms": false,
 "hasColormap": false,
 "hasRasterAttributeTable": false,
 "minScale": 0,
 "maxScale": 0,
 "exportTilesAllowed": false,
 "supportsStatistics": false,
 "supportsAdvancedQueries": false,
 "editFieldsInfo": null,
 "ownershipBasedAccessControlForRasters": null,
 "allowComputeTiePoints": false,
 "useStandardizedQueries": true,
 "advancedQueryCapabilities": {
  "useStandardizedQueries": true,
  "supportsStatistics": false,
  "supportsOrderBy": false,
  "supportsDistinct": false,
  "supportsPagination": false
 },
 "spatialReference": {
  "wkid": 32633,
  "latestWkid": 32633,
  "vcsWkid": 5773,
  "latestVcsWkid": 5773
 }
}
