{
 "currentVersion": 11.3,
 "serviceDescription": "True Ortho",
 "name": "Hosted/SCOLO_GIARDINI_3_True_Ortho",
 "description": "",
 "extent": {
  "xmin": 227745.19814099526,
  "ymin": 4680023.486956219,
  "xmax": 228204.2203959391,
  "ymax": 4680302.179039578,
  "spatialReference": {
   "wkid": 32633,
   "latestWkid": 32633,
   "vcsWkid": 5773,
   "latestVcsWkid": 5773
  }
 },
 "initialExtent": {
  "xmin": 227745.19814099526,
  "ymin": 4680023.486956219,
  "xmax": 228204.2203959391,
  "ymax": 4680302.179039578,
  "spatialReference": {
   "wkid": 32633,
   "latestWkid": 32633,
   "vcsWkid": 5773,
   "latestVcsWkid": 5773
  }
 },
 "fullExtent": {
  "xmin": 227745.19814099526,
  "ymin": 4680023.486956219,
  "xmax": 228204.2203959391,
  "ymax": 4680302.179039578,
  "spatialReference": {
   "wkid": 32633,
   "latestWkid": 32633,
   "vcsWkid": 5773,
   "latestVcsWkid": 5773
  }
 },
 "sortableFields": "",
 "heightModelInfo": {
  "heightModel": "gravity_related_height",
  "vertCRS": "EGM96_Geoid",
  "heightUnit": "meter"
 },
 "bandCount": 3,
 "pixelType": "U8",
 "minValues": [
  1,
  1,
  1
 ],
 "maxValues": [
  254,
  254,
  254
 ],
 "meanValues": [
  144.74029130438,
  137.83538315787,
  117.82651308973
 ],
 "stdvValues": [
  58.965699832739,
  52.570313440744,
  57.720480927429
 ],
 "hasMultidimensions": false,
 "pixelSizeX": 0.016393651962280275,
 "pixelSizeY": 0.016393651962280275,
 "meanPixelSize": 0.016393651962280275,
 "datasetFormat": "TIFF",
 "uncompressedSize": 1427949000,
 "blockWidth": 256,
 "blockHeight": 256,
 "compressionType": "LZW",
 "bandNames": [
  "Band_1",
  "Band_2",
  "Band_3"
 ],
 "allowCopy": true,
 "allowAnalysis": true,
 "itemAccess": false,
 "inspectionCapabilities": "",
 "noDataValue": 0,
 "noDataValues": [
  0,
  0,
  0
 ],
 "minPixelSize": 0,
 "maxPixelSize": 0,
 "copyrightText": "",
 "serviceDataType": "esriImageServiceDataTypeRGB",
 "serviceSourceType": "esriImageServiceSourceTypeDataset",
 "objectIdField": "",
 "fields": [],
 "capabilities": "Image, Metadata, Mensuration",
 "defaultMosaicMethod": "Center",
 "allowedMosaicMethods": "",
 "sortField": "",
 "sortValue": null,
 "sortAscending": true,
 "mosaicOperator": "First",
 "defaultCompressionQuality": 75,
 "defaultResamplingMethod": "Bilinear",
 "maxImageHeight": 4100,
 "maxImageWidth": 15000,
 "allowRasterFunction": true,
 "rasterFunctionInfos": [
  {
   "name": "None",
   "description": "",
   "help": ""
  }
 ],
 "rasterTypeInfos": [
  {
   "name": "Raster Dataset",
   "description": "Supports all ArcGIS Raster Datasets",
   "help": ""
  }
 ],
 "mensurationCapabilities": "Basic",
 "hasHistograms": false,
 "hasColormap": false,
 "hasRasterAttributeTable": false,
 "minScale": 0,
 "maxScale": 0,
 "exportTilesAllowed": false,
 "supportsStatistics": false,
 "supportsAdvancedQueries": false,
 "editFieldsInfo": null,
 "ownershipBasedAccessControlForRasters": null,
 "allowComputeTiePoints": false,
 "useStandardizedQueries": true,
 "advancedQueryCapabilities": {
  "useStandardizedQueries": true,
  "supportsStatistics": false,
  "supportsOrderBy": false,
  "supportsDistinct": false,
  "supportsPagination": false
 },
 "spatialReference": {
  "wkid": 32633,
  "latestWkid": 32633,
  "vcsWkid": 5773,
  "latestVcsWkid": 5773
 }
}
