{
 "currentVersion": 11.3,
 "serviceDescription": "T06_batimetria_mediterraneo_20241105_P",
 "name": "T06_batimetria_mediterraneo_20241105_P",
 "description": "",
 "extent": {
  "xmin": 656516.0143947103,
  "ymin": 4095876.341059199,
  "xmax": 2113600.2975905947,
  "ymax": 5749095.159307215,
  "spatialReference": {
   "wkid": 102100,
   "latestWkid": 3857
  }
 },
 "initialExtent": {
  "xmin": 656516.0143947103,
  "ymin": 4095876.341059199,
  "xmax": 2113600.2975905947,
  "ymax": 5749095.159307215,
  "spatialReference": {
   "wkid": 102100,
   "latestWkid": 3857
  }
 },
 "fullExtent": {
  "xmin": 656516.0143947103,
  "ymin": 4095876.341059199,
  "xmax": 2113600.2975905947,
  "ymax": 5749095.159307215,
  "spatialReference": {
   "wkid": 102100,
   "latestWkid": 3857
  }
 },
 "sortableFields": "",
 "bandCount": 1,
 "pixelType": "F32",
 "minValues": [
  -4544.39990234375
 ],
 "maxValues": [
  26.454999923706055
 ],
 "meanValues": [
  -1540.5097163684175
 ],
 "stdvValues": [
  1239.733702663374
 ],
 "hasMultidimensions": false,
 "pixelSizeX": 115.95450288046192,
 "pixelSizeY": 152.30021356499458,
 "meanPixelSize": 134.12735822272825,
 "datasetFormat": "FGDBR",
 "uncompressedSize": 545615720,
 "blockWidth": 128,
 "blockHeight": 128,
 "compressionType": "LZ77",
 "bandNames": [
  "Band_1"
 ],
 "allowCopy": true,
 "allowAnalysis": true,
 "itemAccess": false,
 "inspectionCapabilities": "",
 "minPixelSize": 0,
 "maxPixelSize": 0,
 "copyrightText": "",
 "serviceDataType": "esriImageServiceDataTypeGeneric",
 "serviceSourceType": "esriImageServiceSourceTypeDataset",
 "objectIdField": "",
 "fields": [],
 "capabilities": "Image,Metadata,Mensuration",
 "defaultMosaicMethod": "Center",
 "allowedMosaicMethods": "",
 "sortField": "",
 "sortValue": null,
 "sortAscending": true,
 "mosaicOperator": "First",
 "defaultCompressionQuality": 75,
 "defaultResamplingMethod": "Bilinear",
 "maxImageHeight": 4100,
 "maxImageWidth": 15000,
 "allowRasterFunction": true,
 "rasterFunctionInfos": [
  {
   "name": "None",
   "description": "",
   "help": ""
  }
 ],
 "rasterTypeInfos": [
  {
   "name": "Raster Dataset",
   "description": "Supports all ArcGIS Raster Datasets",
   "help": ""
  }
 ],
 "mensurationCapabilities": "Basic",
 "hasHistograms": true,
 "hasColormap": false,
 "hasRasterAttributeTable": false,
 "minScale": 0,
 "maxScale": 0,
 "exportTilesAllowed": false,
 "supportsStatistics": false,
 "supportsAdvancedQueries": false,
 "editFieldsInfo": null,
 "ownershipBasedAccessControlForRasters": null,
 "allowComputeTiePoints": false,
 "useStandardizedQueries": true,
 "advancedQueryCapabilities": {
  "useStandardizedQueries": true,
  "supportsStatistics": false,
  "supportsOrderBy": false,
  "supportsDistinct": false,
  "supportsPagination": false
 },
 "spatialReference": {
  "wkid": 102100,
  "latestWkid": 3857
 }
}
