{
 "currentVersion": 11.3,
 "serviceDescription": "TINItaly_distretto",
 "name": "TINItaly_distretto",
 "description": "",
 "extent": {
  "xmin": 701640.7789088516,
  "ymin": 4524240.851229313,
  "xmax": 975807.7290088516,
  "ymax": 4873612.073229313,
  "spatialReference": {
   "wkid": 32632,
   "latestWkid": 32632
  }
 },
 "initialExtent": {
  "xmin": 701640.7789088516,
  "ymin": 4524240.851229313,
  "xmax": 975807.7290088516,
  "ymax": 4873612.073229313,
  "spatialReference": {
   "wkid": 32632,
   "latestWkid": 32632
  }
 },
 "fullExtent": {
  "xmin": 701640.7789088516,
  "ymin": 4524240.851229313,
  "xmax": 975807.7290088516,
  "ymax": 4873612.073229313,
  "spatialReference": {
   "wkid": 32632,
   "latestWkid": 32632
  }
 },
 "sortableFields": "",
 "bandCount": 1,
 "pixelType": "S16",
 "minValues": [
  -3
 ],
 "maxValues": [
  2907
 ],
 "meanValues": [
  497.5174133404397
 ],
 "stdvValues": [
  433.76174803629505
 ],
 "hasMultidimensions": false,
 "pixelSizeX": 11.457996911568038,
 "pixelSizeY": 11.4577994883904,
 "meanPixelSize": 11.457898199979219,
 "datasetFormat": "SDR",
 "uncompressedSize": 1459225152,
 "blockWidth": 128,
 "blockHeight": 128,
 "compressionType": "LZ77",
 "bandNames": [
  "Band_1"
 ],
 "allowCopy": true,
 "allowAnalysis": true,
 "itemAccess": false,
 "inspectionCapabilities": "",
 "minPixelSize": 0,
 "maxPixelSize": 0,
 "copyrightText": "",
 "serviceDataType": "esriImageServiceDataTypeGeneric",
 "serviceSourceType": "esriImageServiceSourceTypeDataset",
 "objectIdField": "",
 "fields": [],
 "capabilities": "Image,Metadata,Mensuration",
 "defaultMosaicMethod": "Center",
 "allowedMosaicMethods": "",
 "sortField": "",
 "sortValue": null,
 "sortAscending": true,
 "mosaicOperator": "First",
 "defaultCompressionQuality": 75,
 "defaultResamplingMethod": "Bilinear",
 "maxImageHeight": 4100,
 "maxImageWidth": 15000,
 "allowRasterFunction": true,
 "rasterFunctionInfos": [
  {
   "name": "None",
   "description": "",
   "help": ""
  }
 ],
 "rasterTypeInfos": [
  {
   "name": "Raster Dataset",
   "description": "Supports all ArcGIS Raster Datasets",
   "help": ""
  }
 ],
 "mensurationCapabilities": "Basic",
 "hasHistograms": true,
 "hasColormap": false,
 "hasRasterAttributeTable": false,
 "minScale": 0,
 "maxScale": 0,
 "exportTilesAllowed": false,
 "supportsStatistics": false,
 "supportsAdvancedQueries": false,
 "editFieldsInfo": null,
 "ownershipBasedAccessControlForRasters": null,
 "allowComputeTiePoints": false,
 "useStandardizedQueries": true,
 "advancedQueryCapabilities": {
  "useStandardizedQueries": true,
  "supportsStatistics": false,
  "supportsOrderBy": false,
  "supportsDistinct": false,
  "supportsPagination": false
 },
 "spatialReference": {
  "wkid": 32632,
  "latestWkid": 32632
 }
}
