View In:
ArcGIS JavaScript
ArcGIS Online Map Viewer
ArcGIS Earth
Service Description: T02_IDROLOGIA_TINItaly_DEM_P
Name: T02_IDROLOGIA_TINItaly_DEM_P
Description:
Single Fused Map Cache: false
Extent:
XMin: 701640.7789088516
YMin: 4524240.851229313
XMax: 975807.7290088516
YMax: 4873612.073229313
Spatial Reference: 32632
(32632)
Initial Extent:
XMin: 701640.7789088516
YMin: 4524240.851229313
XMax: 975807.7290088516
YMax: 4873612.073229313
Spatial Reference: 32632
(32632)
Full Extent:
XMin: 701640.7789088516
YMin: 4524240.851229313
XMax: 975807.7290088516
YMax: 4873612.073229313
Spatial Reference: 32632
(32632)
Pixel Size X: 11.457996911568038
Pixel Size Y: 11.4577994883904
Band Count: 1
Pixel Type: S16
RasterFunction Infos: {"rasterFunctionInfos": [{
"name": "None",
"description": "",
"help": ""
}]}
Mensuration Capabilities: Basic
Inspection Capabilities:
Has Histograms: true
Has Colormap: false
Has Multi Dimensions : false
Rendering Rule:
Min Scale: 0
Max Scale: 0
Copyright Text:
Service Data Type: esriImageServiceDataTypeGeneric
Min Values: -3
Max Values: 2907
Mean Values: 497.5174133404397
Standard Deviation Values: 433.76174803629505
Object ID Field:
Fields:
None
Default Mosaic Method: Center
Allowed Mosaic Methods:
SortField:
SortValue: null
Mosaic Operator: First
Default Compression Quality: 75
Default Resampling Method: Bilinear
Max Record Count: null
Max Image Height: 4100
Max Image Width: 15000
Max Download Image Count: null
Max Mosaic Image Count: null
Allow Raster Function: true
Allow Copy: true
Allow Analysis: true
Allow Compute TiePoints: false
Supports Statistics: false
Supports Advanced Queries: false
Use StandardizedQueries: true
Raster Type Infos:
Name: Raster Dataset
Description: Supports all ArcGIS Raster Datasets
Help:
Has Raster Attribute Table: false
Edit Fields Info: null
Ownership Based AccessControl For Rasters: null
Child Resources:
Info
Histograms
Statistics
Key Properties
Legend
Raster Function Infos
Supported Operations:
Export Image
Identify
Measure
Compute Histograms
Compute Statistics Histograms
Get Samples
Compute Class Statistics
Query Boundary
Compute Pixel Location
Compute Angles
Validate
Project