View In:
ArcGIS JavaScript
ArcGIS Online Map Viewer
ArcGIS Earth
Service Description: T02_IDROLOGIA_TINItaly_Flow_Direction_20241011_P
Name: T02_IDROLOGIA_TINItaly_Flow_Direction_20241011_P
Description:
Single Fused Map Cache: false
Extent:
XMin: 701636.7323017297
YMin: 4524233.943018571
XMax: 975806.7323017297
YMax: 4873613.943018571
Spatial Reference: 32632
(32632)
Initial Extent:
XMin: 701636.7323017297
YMin: 4524233.943018571
XMax: 975806.7323017297
YMax: 4873613.943018571
Spatial Reference: 32632
(32632)
Full Extent:
XMin: 701636.7323017297
YMin: 4524233.943018571
XMax: 975806.7323017297
YMax: 4873613.943018571
Spatial Reference: 32632
(32632)
Pixel Size X: 10.0
Pixel Size Y: 10.0
Band Count: 1
Pixel Type: U8
RasterFunction Infos: {"rasterFunctionInfos": [{
"name": "None",
"description": "",
"help": ""
}]}
Mensuration Capabilities: Basic
Inspection Capabilities:
Has Histograms: true
Has Colormap: false
Has Multi Dimensions : false
Rendering Rule:
Min Scale: 0
Max Scale: 0
Copyright Text:
Service Data Type: esriImageServiceDataTypeGeneric
Min Values: 1
Max Values: 255
Mean Values: 31.572486242014143
Standard Deviation Values: 43.52770606093784
Object ID Field:
Fields:
None
Default Mosaic Method: Center
Allowed Mosaic Methods:
SortField:
SortValue: null
Mosaic Operator: First
Default Compression Quality: 75
Default Resampling Method: Bilinear
Max Record Count: null
Max Image Height: 4100
Max Image Width: 15000
Max Download Image Count: null
Max Mosaic Image Count: null
Allow Raster Function: true
Allow Copy: true
Allow Analysis: true
Allow Compute TiePoints: false
Supports Statistics: false
Supports Advanced Queries: false
Use StandardizedQueries: true
Raster Type Infos:
Name: Raster Dataset
Description: Supports all ArcGIS Raster Datasets
Help:
Has Raster Attribute Table: false
Edit Fields Info: null
Ownership Based AccessControl For Rasters: null
Child Resources:
Info
Histograms
Statistics
Key Properties
Legend
Raster Function Infos
Supported Operations:
Export Image
Identify
Measure
Compute Histograms
Compute Statistics Histograms
Get Samples
Compute Class Statistics
Query Boundary
Compute Pixel Location
Compute Angles
Validate
Project