View In:
ArcGIS JavaScript
ArcGIS Online Map Viewer
ArcGIS Earth
Service Description: T07_img_lay_service_consumo_suolo_2023
Name: T07_img_lay_service_consumo_suolo_2023
Description:
Single Fused Map Cache: false
Extent:
XMin: 3999087.3215089636
YMin: 1348484.7621774157
XMax: 5196894.033102474
YMax: 2713234.593700656
Spatial Reference: 3035
(3035)
LatestVCSWkid(0)
Initial Extent:
XMin: 3999087.3215089636
YMin: 1348484.7621774157
XMax: 5196894.033102474
YMax: 2713234.593700656
Spatial Reference: 3035
(3035)
LatestVCSWkid(0)
Full Extent:
XMin: 3999087.3215089636
YMin: 1348484.7621774157
XMax: 5196894.033102474
YMax: 2713234.593700656
Spatial Reference: 3035
(3035)
LatestVCSWkid(0)
Pixel Size X: 12.046127737652844
Pixel Size Y: 10.656113994653325
Band Count: 1
Pixel Type: U8
RasterFunction Infos: {"rasterFunctionInfos": [{
"name": "None",
"description": "",
"help": ""
}]}
Mensuration Capabilities: Basic
Inspection Capabilities:
Has Histograms: true
Has Colormap: false
Has Multi Dimensions : false
Rendering Rule:
Min Scale: 0
Max Scale: 0
Copyright Text:
Service Data Type: esriImageServiceDataTypeGeneric
Min Values: 1
Max Values: 205
Mean Values: 7.125374935219129
Standard Deviation Values: 24.150437090932915
Object ID Field:
Fields:
None
Default Mosaic Method: Center
Allowed Mosaic Methods:
SortField:
SortValue: null
Mosaic Operator: First
Default Compression Quality: 75
Default Resampling Method: Bilinear
Max Record Count: null
Max Image Height: 4100
Max Image Width: 15000
Max Download Image Count: null
Max Mosaic Image Count: null
Allow Raster Function: true
Allow Copy: true
Allow Analysis: true
Allow Compute TiePoints: false
Supports Statistics: false
Supports Advanced Queries: false
Use StandardizedQueries: true
Raster Type Infos:
Name: Raster Dataset
Description: Supports all ArcGIS Raster Datasets
Help:
Has Raster Attribute Table: false
Edit Fields Info: null
Ownership Based AccessControl For Rasters: null
Child Resources:
Info
Histograms
Statistics
Key Properties
Legend
Raster Function Infos
Supported Operations:
Export Image
Identify
Measure
Compute Histograms
Compute Statistics Histograms
Get Samples
Compute Class Statistics
Query Boundary
Compute Pixel Location
Compute Angles
Validate
Project