View In:
ArcGIS JavaScript
ArcGIS Online Map Viewer
ArcGIS Earth
Service Description: img_lay_service_c_clc_2018_ispra_2023
Name: img_lay_service_c_clc_2018_ispra_2023
Description:
Single Fused Map Cache: false
Extent:
XMin: 3999198.001026841
YMin: 1348604.889458021
XMax: 5196956.23954053
YMax: 2713340.67491052
Spatial Reference: 3035
(3035)
LatestVCSWkid(0)
Initial Extent:
XMin: 3999198.001026841
YMin: 1348604.889458021
XMax: 5196956.23954053
YMax: 2713340.67491052
Spatial Reference: 3035
(3035)
LatestVCSWkid(0)
Full Extent:
XMin: 3999198.001026841
YMin: 1348604.889458021
XMax: 5196956.23954053
YMax: 2713340.67491052
Spatial Reference: 3035
(3035)
LatestVCSWkid(0)
Pixel Size X: 12.045640252563881
Pixel Size Y: 10.656004321416853
Band Count: 1
Pixel Type: S16
RasterFunction Infos: {"rasterFunctionInfos": [{
"name": "None",
"description": "",
"help": ""
}]}
Mensuration Capabilities: Basic
Inspection Capabilities:
Has Histograms: true
Has Colormap: false
Has Multi Dimensions : false
Rendering Rule:
Min Scale: 0
Max Scale: 0
Copyright Text:
Service Data Type: esriImageServiceDataTypeGeneric
Min Values: 2
Max Values: 62
Mean Values: 12.6410129236201
Standard Deviation Values: 17.03133033931077
Object ID Field:
Fields:
None
Default Mosaic Method: Center
Allowed Mosaic Methods:
SortField:
SortValue: null
Mosaic Operator: First
Default Compression Quality: 75
Default Resampling Method: Bilinear
Max Record Count: null
Max Image Height: 4100
Max Image Width: 15000
Max Download Image Count: null
Max Mosaic Image Count: null
Allow Raster Function: true
Allow Copy: true
Allow Analysis: true
Allow Compute TiePoints: false
Supports Statistics: false
Supports Advanced Queries: false
Use StandardizedQueries: true
Raster Type Infos:
Name: Raster Dataset
Description: Supports all ArcGIS Raster Datasets
Help:
Has Raster Attribute Table: false
Edit Fields Info: null
Ownership Based AccessControl For Rasters: null
Child Resources:
Info
Histograms
Statistics
Key Properties
Legend
Raster Function Infos
Supported Operations:
Export Image
Identify
Measure
Compute Histograms
Compute Statistics Histograms
Get Samples
Compute Class Statistics
Query Boundary
Compute Pixel Location
Compute Angles
Validate
Project