View In:
ArcGIS JavaScript
ArcGIS Online Map Viewer
ArcGIS Earth
Service Description: True Ortho
Name: Hosted/FOSSACCIO_B_True_Ortho
Description:
Single Fused Map Cache: false
Extent:
XMin: 229244.1855591425
YMin: 4683053.723731419
XMax: 229752.2155579218
YMax: 4684149.163416287
Spatial Reference: 32633
(32633)
VCSWkid(5773)
LatestVCSWkid(5773)
Initial Extent:
XMin: 229244.1855591425
YMin: 4683053.723731419
XMax: 229752.2155579218
YMax: 4684149.163416287
Spatial Reference: 32633
(32633)
VCSWkid(5773)
LatestVCSWkid(5773)
Full Extent:
XMin: 229244.1855591425
YMin: 4683053.723731419
XMax: 229752.2155579218
YMax: 4684149.163416287
Spatial Reference: 32633
(32633)
VCSWkid(5773)
LatestVCSWkid(5773)
Pixel Size X: 0.015875937461853028
Pixel Size Y: 0.015875937461853028
Band Count: 3
Pixel Type: U8
RasterFunction Infos: {"rasterFunctionInfos": [{
"name": "None",
"description": "",
"help": ""
}]}
Mensuration Capabilities: Basic
Inspection Capabilities:
Has Histograms: false
Has Colormap: false
Has Multi Dimensions : false
Rendering Rule:
Min Scale: 0
Max Scale: 0
Copyright Text:
Service Data Type: esriImageServiceDataTypeRGB
Min Values: 1, 1, 1
Max Values: 254, 254, 254
Mean Values: 151.38675638561, 138.75601173477, 98.674291260882
Standard Deviation Values: 52.018039705007, 43.599956146054, 42.194039953586
Object ID Field:
Fields:
None
Default Mosaic Method: Center
Allowed Mosaic Methods:
SortField:
SortValue: null
Mosaic Operator: First
Default Compression Quality: 75
Default Resampling Method: Bilinear
Max Record Count: null
Max Image Height: 4100
Max Image Width: 15000
Max Download Image Count: null
Max Mosaic Image Count: null
Allow Raster Function: true
Allow Copy: true
Allow Analysis: true
Allow Compute TiePoints: false
Supports Statistics: false
Supports Advanced Queries: false
Use StandardizedQueries: true
Raster Type Infos:
Name: Raster Dataset
Description: Supports all ArcGIS Raster Datasets
Help:
Has Raster Attribute Table: false
Edit Fields Info: null
Ownership Based AccessControl For Rasters: null
Child Resources:
Info
Statistics
Key Properties
Legend
Raster Function Infos
Supported Operations:
Export Image
Identify
Measure
Compute Histograms
Compute Statistics Histograms
Get Samples
Compute Class Statistics
Query Boundary
Compute Pixel Location
Compute Angles
Validate
Project