View In:
ArcGIS JavaScript
ArcGIS Online Map Viewer
ArcGIS Earth
Service Description: T06_batimetria_mediterraneo_20241105_P
Name: T06_batimetria_mediterraneo_20241105_P
Description:
Single Fused Map Cache: false
Extent:
XMin: 656516.0143947103
YMin: 4095876.341059199
XMax: 2113600.2975905947
YMax: 5749095.159307215
Spatial Reference: 102100
(3857)
Initial Extent:
XMin: 656516.0143947103
YMin: 4095876.341059199
XMax: 2113600.2975905947
YMax: 5749095.159307215
Spatial Reference: 102100
(3857)
Full Extent:
XMin: 656516.0143947103
YMin: 4095876.341059199
XMax: 2113600.2975905947
YMax: 5749095.159307215
Spatial Reference: 102100
(3857)
Pixel Size X: 115.95450288046192
Pixel Size Y: 152.30021356499458
Band Count: 1
Pixel Type: F32
RasterFunction Infos: {"rasterFunctionInfos": [{
"name": "None",
"description": "",
"help": ""
}]}
Mensuration Capabilities: Basic
Inspection Capabilities:
Has Histograms: true
Has Colormap: false
Has Multi Dimensions : false
Rendering Rule:
Min Scale: 0
Max Scale: 0
Copyright Text:
Service Data Type: esriImageServiceDataTypeGeneric
Min Values: -4544.39990234375
Max Values: 26.454999923706055
Mean Values: -1540.5097163684175
Standard Deviation Values: 1239.733702663374
Object ID Field:
Fields:
None
Default Mosaic Method: Center
Allowed Mosaic Methods:
SortField:
SortValue: null
Mosaic Operator: First
Default Compression Quality: 75
Default Resampling Method: Bilinear
Max Record Count: null
Max Image Height: 4100
Max Image Width: 15000
Max Download Image Count: null
Max Mosaic Image Count: null
Allow Raster Function: true
Allow Copy: true
Allow Analysis: true
Allow Compute TiePoints: false
Supports Statistics: false
Supports Advanced Queries: false
Use StandardizedQueries: true
Raster Type Infos:
Name: Raster Dataset
Description: Supports all ArcGIS Raster Datasets
Help:
Has Raster Attribute Table: false
Edit Fields Info: null
Ownership Based AccessControl For Rasters: null
Child Resources:
Info
Histograms
Statistics
Key Properties
Legend
Raster Function Infos
Supported Operations:
Export Image
Identify
Measure
Compute Histograms
Compute Statistics Histograms
Get Samples
Compute Class Statistics
Query Boundary
Compute Pixel Location
Compute Angles
Validate
Project